Workbook

Sheet Accounts
A1: account_id | B1: account_name | C1: latitude | D1: longitude | E1: segment | F1: status | G1: annual_potential | H1: current_revenue | I1: visits_per_year | J1: territory
A2: ACC-001 | B2: Acorn Supply | C2: 43.829 | D2: -79.4744 | E2: Enterprise | F2: Active | G2: 178000 | H2: 47000 | I2: 12 | J2: West territory
A3: ACC-002 | B3: Bluebird Foods | C3: 43.7389 | D3: -79.2576 | E3: Core | F3: Prospect | G3: 171000 | H3: 0 | I3: 6 | J3: Central territory
A4: ACC-003 | B4: Cedar Works | C4: 43.8306 | D4: -79.5696 | E4: Growth | F4: Active | G4: 110000 | H4: 65000 | I4: 4 | J4: West territory
A5: ACC-004 | B5: Dovetail Labs | C5: 43.8371 | D5: -79.3947 | E5: Enterprise | F5: Active | G5: 330000 | H5: 83000 | I5: 12 | J5: Central territory
A6: ACC-005 | B6: Evergreen Health | C6: 43.8817 | D6: -79.2504 | E6: Growth | F6: Active | G6: 91000 | H6: 56000 | I6: 4 | J6: Central territory
A7: ACC-006 | B7: Foundry North | C7: 43.6129 | D7: -79.6853 | E7: Core | F7: Active | G7: 103000 | H7: 57000 | I7: 6 | J7: West territory
A8: ACC-007 | B8: Granite Retail | C8: 43.4721 | D8: -79.7012 | E8: Core | F8: Active | G8: 148000 | H8: 87000 | I8: 6
A9: ACC-008 | B9: Harbour Systems | C9: 43.825 | D9: -79.4857 | E9: Enterprise | F9: Active | G9: 329000 | H9: 221000 | I9: 12 | J9: West territory
A10: ACC-009 | B10: Juniper Market | C10: 43.8945 | D10: -78.9075 | E10: Enterprise | F10: Active | G10: 299000 | H10: 182000 | I10: 12 | J10: East territory
A11: ACC-010 | B11: Kestrel Logistics | C11: 43.7181 | D11: -79.6643 | E11: Enterprise | F11: Prospect | G11: 328000 | H11: 0 | I11: 12 | J11: West territory
A12: ACC-011 | B12: Lakeside Dental | C12: 43.8502 | D12: -79.1472 | E12: Growth | F12: Prospect | G12: 104000 | H12: 0 | I12: 4 | J12: East territory
A13: ACC-012 | B13: Maple Lane Bakery | C13: 43.7533 | D13: -79.2516 | E13: Enterprise | F13: Prospect | G13: 274000 | H13: 0 | I13: 12 | J13: Central territory
A14: ACC-013 | B14: Oakridge Clinics | C14: 43.8844 | D14: -79.086 | E14: Core | F14: Active | G14: 171000 | H14: 58000 | I14: 6 | J14: East territory
A15: ACC-014 | B15: Pinecrest Hardware | C15: 43.8014 | D15: -79.23 | E15: Core | F15: Active | G15: 179000 | H15: 112000 | I15: 6 | J15: Central territory
A16: ACC-015 | B16: Quarry Street Cafe | C16: 43.63 | D16: -79.7032 | E16: Enterprise | F16: Active | G16: 253000 | H16: 146000 | I16: 12 | J16: West territory
A17: ACC-016 | B17: Riverbend Fitness | C17: 43.8208 | D17: -79.5473 | E17: Core | F17: Active | G17: 173000 | H17: 85000 | I17: 6 | J17: West territory
A18: ACC-017 | B18: Summit Print | C18: 43.8004 | D18: -79.2851 | E18: Growth | F18: Prospect | G18: 99000 | H18: 0 | I18: 4 | J18: Central territory
A19: ACC-018 | B19: Tidewater Marine | C19: 43.8362 | D19: -79.4807 | E19: Enterprise | F19: Prospect | G19: 336000 | H19: 0 | I19: 12 | J19: West territory
A20: ACC-019 | B20: Upland Outfitters | C20: 43.7686 | D20: -79.3174 | E20: Enterprise | F20: Active | G20: 217000 | H20: 121000 | I20: 12 | J20: Central territory
A21: ACC-020 | B21: Vantage Optics | C21: 43.8953 | D21: -78.9546 | E21: Enterprise | F21: Prospect | G21: 195000 | H21: 0 | I21: 12 | J21: East territory
A22: ACC-021 | B22: Willow Pharmacy | C22: 43.9566 | D22: -79.4398 | E22: Core | F22: Active | G22: 147000 | H22: 105000 | I22: 6
A23: ACC-022 | B23: Yardley Home | C23: 43.824 | D23: -79.3452 | E23: Enterprise | F23: Active | G23: 213000 | H23: 130000 | I23: 12 | J23: Central territory
A24: ACC-023 | B24: Zephyr Studios | C24: 43.9093 | D24: -78.982 | E24: Core | F24: Active | G24: 100000 | H24: 37000 | I24: 6 | J24: East territory
A25: ACC-024 | B25: Amberline Packaging | C25: 43.7199 | D25: -79.5693 | E25: Core | F25: Active | G25: 101000 | H25: 44000 | I25: 6 | J25: West territory
A26: ACC-025 | B26: Brightside Pets | C26: 43.811 | D26: -79.5744 | E26: Enterprise | F26: Prospect | G26: 170000 | H26: 0 | I26: 12 | J26: West territory
A27: ACC-026 | B27: Copperleaf Salon | C27: 43.8356 | D27: -79.1504 | E27: Core | F27: Active | G27: 94000 | H27: 44000 | I27: 6 | J27: East territory
A28: ACC-027 | B28: Driftwood Books | C28: 43.8877 | D28: -79.3381 | E28: Growth | F28: Active | G28: 60000 | H28: 29000 | I28: 4 | J28: Central territory
A29: ACC-028 | B29: Elmstead Furniture | C29: 43.8198 | D29: -79.2942 | E29: Enterprise | F29: Active | G29: 236000 | H29: 78000 | I29: 12 | J29: Central territory

Sheet Territories
A1: territory_id | B1: territory_name | C1: owner | D1: coverage_model | E1: annual_target | F1: notes
A2: T-01 | B2: West territory | C2: Owner A | D2: Field | E2: 1200000 | F2: Synthetic example
A3: T-02 | B3: Central territory | C3: Owner B | D3: Field | E3: 1400000 | F3: Synthetic example
A4: T-03 | B4: East territory | C4: Owner C | D4: Hybrid | E4: 900000 | F4: Synthetic example

Sheet Summary
A1: Territory summary
A2: Hours per visit | B2: 1.5 | C2: Edit the blue cell. Summary formulas recalculate from the Accounts and Territories sheets.
A4: territory | B4: owner | C4: accounts | D4: active | E4: prospects | F4: annual_potential | G4: share_of_potential | H4: current_revenue | I4: visits_per_year | J4: visit_hours | K4: potential_vs_average | L4: annual_target
A5: =Territories!B2 | B5: =IFERROR(INDEX(Territories!$C$2:$C$30,MATCH(A5,Territories!$B$2:$B$30,0)),"") | C5: =COUNTIFS(Accounts!$J$2:$J$500,A5,Accounts!$A$2:$A$500,"<>") | D5: =COUNTIFS(Accounts!$J$2:$J$500,A5,Accounts!$F$2:$F$500,"Active") | E5: =COUNTIFS(Accounts!$J$2:$J$500,A5,Accounts!$F$2:$F$500,"Prospect") | F5: =SUMIFS(Accounts!$G$2:$G$500,Accounts!$J$2:$J$500,A5) | G5: =IF($F$9=0,0,F5/$F$9) | H5: =SUMIFS(Accounts!$H$2:$H$500,Accounts!$J$2:$J$500,A5) | I5: =SUMIFS(Accounts!$I$2:$I$500,Accounts!$J$2:$J$500,A5) | J5: =I5*$B$2 | K5: =IF(AVERAGE($F$5:$F$7)=0,0,F5/AVERAGE($F$5:$F$7)-1) | L5: =IFERROR(INDEX(Territories!$E$2:$E$30,MATCH(A5,Territories!$B$2:$B$30,0)),"")
A6: =Territories!B3 | B6: =IFERROR(INDEX(Territories!$C$2:$C$30,MATCH(A6,Territories!$B$2:$B$30,0)),"") | C6: =COUNTIFS(Accounts!$J$2:$J$500,A6,Accounts!$A$2:$A$500,"<>") | D6: =COUNTIFS(Accounts!$J$2:$J$500,A6,Accounts!$F$2:$F$500,"Active") | E6: =COUNTIFS(Accounts!$J$2:$J$500,A6,Accounts!$F$2:$F$500,"Prospect") | F6: =SUMIFS(Accounts!$G$2:$G$500,Accounts!$J$2:$J$500,A6) | G6: =IF($F$9=0,0,F6/$F$9) | H6: =SUMIFS(Accounts!$H$2:$H$500,Accounts!$J$2:$J$500,A6) | I6: =SUMIFS(Accounts!$I$2:$I$500,Accounts!$J$2:$J$500,A6) | J6: =I6*$B$2 | K6: =IF(AVERAGE($F$5:$F$7)=0,0,F6/AVERAGE($F$5:$F$7)-1) | L6: =IFERROR(INDEX(Territories!$E$2:$E$30,MATCH(A6,Territories!$B$2:$B$30,0)),"")
A7: =Territories!B4 | B7: =IFERROR(INDEX(Territories!$C$2:$C$30,MATCH(A7,Territories!$B$2:$B$30,0)),"") | C7: =COUNTIFS(Accounts!$J$2:$J$500,A7,Accounts!$A$2:$A$500,"<>") | D7: =COUNTIFS(Accounts!$J$2:$J$500,A7,Accounts!$F$2:$F$500,"Active") | E7: =COUNTIFS(Accounts!$J$2:$J$500,A7,Accounts!$F$2:$F$500,"Prospect") | F7: =SUMIFS(Accounts!$G$2:$G$500,Accounts!$J$2:$J$500,A7) | G7: =IF($F$9=0,0,F7/$F$9) | H7: =SUMIFS(Accounts!$H$2:$H$500,Accounts!$J$2:$J$500,A7) | I7: =SUMIFS(Accounts!$I$2:$I$500,Accounts!$J$2:$J$500,A7) | J7: =I7*$B$2 | K7: =IF(AVERAGE($F$5:$F$7)=0,0,F7/AVERAGE($F$5:$F$7)-1) | L7: =IFERROR(INDEX(Territories!$E$2:$E$30,MATCH(A7,Territories!$B$2:$B$30,0)),"")
A8: Unassigned | C8: =COUNTIFS(Accounts!$J$2:$J$500,"",Accounts!$A$2:$A$500,"<>") | D8: =COUNTIFS(Accounts!$J$2:$J$500,"",Accounts!$A$2:$A$500,"<>",Accounts!$F$2:$F$500,"Active") | E8: =COUNTIFS(Accounts!$J$2:$J$500,"",Accounts!$A$2:$A$500,"<>",Accounts!$F$2:$F$500,"Prospect") | F8: =SUMIFS(Accounts!$G$2:$G$500,Accounts!$J$2:$J$500,"",Accounts!$A$2:$A$500,"<>") | G8: =IF($F$9=0,0,F8/$F$9) | H8: =SUMIFS(Accounts!$H$2:$H$500,Accounts!$J$2:$J$500,"",Accounts!$A$2:$A$500,"<>") | I8: =SUMIFS(Accounts!$I$2:$I$500,Accounts!$J$2:$J$500,"",Accounts!$A$2:$A$500,"<>") | J8: =I8*$B$2
A9: Total | C9: =COUNTA(Accounts!$A$2:$A$500) | D9: =COUNTIFS(Accounts!$A$2:$A$500,"<>",Accounts!$F$2:$F$500,"Active") | E9: =COUNTIFS(Accounts!$A$2:$A$500,"<>",Accounts!$F$2:$F$500,"Prospect") | F9: =SUM(Accounts!$G$2:$G$500) | G9: =IF(F9=0,0,1) | H9: =SUM(Accounts!$H$2:$H$500) | I9: =SUM(Accounts!$I$2:$I$500) | J9: =I9*$B$2 | L9: =SUM(L5:L7)

Sheet Change log
A1: date | B1: change | C1: reason | D1: accounts_affected | E1: approved_by
A2: 2026-10-18 | B2: Created the starting West, Central and East territories | C2: Initial synthetic example | D2: 26 | E2: Example

Sheet How to use
A1: Sales territory plan template
A2: All accounts, owners and amounts in this workbook are synthetic. Replace them with your own data.
A4: 1. List each territory and its owner on the Territories sheet.
A5: 2. Put one account per row on the Accounts sheet, with decimal latitude and longitude.
A6: 3. Import the Accounts sheet into TerritoryKit, then draw or import your territory boundaries.
A7: 4. Export point membership from TerritoryKit and copy each account's territory into the territory column.
A8: 5. Review the Summary sheet: account counts, potential, revenue and estimated visit hours per territory.
A9: 6. Adjust boundaries, re-export membership, and record every change on the Change log sheet.
A11: Column guide (Accounts sheet)
A12: account_id: a stable ID that never changes, used to match exports back to this sheet.
A13: latitude / longitude: decimal degrees, for example 43.6532 and -79.3832.
A14: segment and status: categories you want to compare across territories.
... A19: Guide: https://territorykit.com/guides/sales-territory-plan-template
